BEGIN:VCALENDAR
METHOD:PUBLISH
VERSION:2.0
PRODID:-//Eventilla iCal Syndication//NONSGML Liana//EN
BEGIN:VEVENT
UID:7e5z8@eventilla.com
DTSTAMP:20231030T220000Z
DTSTART:20231030T220000Z
DTEND:20231129T220000Z
SUMMARY:Maitoalan huippuseminaari: Tiedolla ja taidolla tulosta
DESCRIPTION:Maitoalan huippuseminaari: Tiedolla ja taidolla tulosta\n31.10.-1.11.2023 Frami B\, Kampusranta 9\, Seinäjoki\n \nMATERIAALIT 31.10.2023\n\nMaitomarkkinakatsaus Heikki Ojala\nPötsi-hankkeessa havaittua Sini Konttas\nTunnutuksen vaikutus rehun syöntiin\, pötsin happamuuteen\, maitotuotokseen Paula Rissanen\nValkuaisomavaraisuus ja palkokasvienkäyttä ruokinnassa Pirkko Tuominen\nMaidon ja naudanlihantuotannon vahvuudet ja tulevaisuudennäkymät Jyrki Niemi\nSairauksien seuraukset euroissa Jarkko Niemi\nYrittäjäpuheenvuoro Juha Luhtanen\n\nMATERIAALIT 1.11.2023\n\nTerveyttä ja parempaa kasvua Seija Perästö\nDemostraatiopiste-poikimasimulaattori\nDemonstaatiopiste-sailorehun-kuiva-ainemittarit\nYrittäjäpuheenvuoro Sanna Savunen\n\nSEMINAARISTA\nToimintaympäristön muutokset haastavat maitotilayrittäjää\, mutta tiedolla ja taidolla varmistetaan menestys myös tulevaisuudessa. Eläinterveydellä on mittavat taloudelliset vaikutukset. Varmista lehmälle terve siirtymä seuraavalle tuotoskaudelle ja vasikalle elinvoimainen alku elämään. Nyt on aika ottaa löysät pois! Tule kuulemaan huippuasiantuntijoiden uusinta tietoa ja maitotilayrittäjien avaimia menestykseen.Tilaisuus on Pötsi- ja Vahvat Vasikat -hankkeiden päätösseminaari.\nOhjelma\nTiistai 31.10.2023 \nAuditorio9.30 Kahvia ja purtavaa tarjolla9.55 Tervetulosanat\nSessio 1  \n10.00 Maidon- ja naudanlihantuotannon vahvuudet ja tulevaisuudennäkymät - Jyrki Niemi\, Luonnonvarakeskus      \n10.30 Tuulta vai tyyntä maitomarkkinoilla? - Heikki Ojala\, ProAgria Keski-Pohjanmaa \n11.15 Happy cows\, happy farmers\, happy planet - Joep Driessen\, Hollanti www.cowsignals.com \n12.15 – 13.30  Lounas ja minimessut (A-Rehu\, Lantmännen\, Feedex\, Valio\, DeLaval\, Luonnonvarakeskus\,Vilomix\, Faba\, AIV/Eastman\, MSD Animal Health\, Happowa Oy )   \nSessio 2\n13.30 Miten tunnutus vaikuttaa pötsiin\, tuotokseen ja terveyteen - Paula Rissanen\, Helsingin yliopisto\n14.00 Pötsistä opittua: hyvät käytännöt pilottitiloilta - Sini Konttas\, ProAgria Etelä-Pohjanmaa\n14.30 Sairauksien seuraukset euroissa - Jarkko Niemi\, Luonnonvarakeskus\n15.00  Kahvi ja minimessut (A-Rehu\, Lantmännen\, Feedex\, Valio\, DeLaval\, Luonnonvarakeskus\, Vilomix\, Faba\, AIV/Eastman\, MSD Animal Health\, Happowa Oy)\nSessio 3            \n15.30 Valkuaisomavaraisuus ja palkokasvien käyttö ruokinnassa - Pirkko Tuominen\, ProAgria Itä-Suomi\n16.00 Yrittäjäpuheenvuoro: Rehuntuotannon suunnittelu ja tilan johtaminen - Juha Luhtanen\n17.00 Minimessut (mukana A-Rehu\, Lantmännen\, Feedex\, Valio\, DeLaval\, Luonnonvarakeskus\, Vilomix\, Faba\, AIV/Eastman\, MSD Animal Health\, Happowa Oy) ja yhteinen verkostoitumistilaisuus klo 18 saakka\nKeskiviikko 1.11.2023\nAuditorio\, Kahvia tarjolla  \nSessio 1\n8.45 Seminaaripäivän aloitus auditoriossa\n9.00 Demonstraatiopisteiden kiertäminen pienemmissä ryhmissä\nDemonstraatiopiste 1: karkearehujen kuiva-ainemittarit\nDemonstraatiopiste 2: poikimasimulaattori\nDemonstraatiopiste 3: Dry to fresh – onnistunut siirtymäkausi (Joep Driessen)\nYhteenveto demopisteistä auditoriossa\nKlo 11.10-12.15 Lounas\, mahdollisuus tutustua lisää poikimasimulaattoriin\nSessio 2:\nKlo 12.15. YoungstockSignals – Tee vasikoiden kanssa oikeita asioita - Joep Driessen\, Hollanti www.cowsignals.com\nSessio 3\n13.30 Terveyttä ja parempaa kasvua vasikoille - Seija Perasto\, ProAgria Etelä-Pohjanmaa\nYrittäjäpuheenvuoro: Miten onnistuimme parantamaan tilamme vasikkaterveyttä - Sanna Savunen\n14.30 Kahvit ja hyvää kotimatkaa! Vielä mahdollisuus tutustua poikimasimulaattoriin \nSeminaariin kiinnitetyt puhujat (ohjelma täydentyy ja pidätämme oikeuden muutoksiin)\nJoep DriessenHollantilainen eläinlääkäri ja CowSignals-kouluttaja pitää esitykset seminaarin molempina päivinä. Kuulemme lehmän hyvää tuotosta ja terveyttä tukevasta managementista sekä vasikoiden onnistuneen juotolta vieroituksen käytännöistä. Pienemmissä ryhmissä pääsemme kuulemaan Joepin vinkkejä onnistuneeseen umpi- ja siirtymäkauteen. Joep on innostava puhuja\, joka tekee yhteistyötä maitotilayrittäjien kanssa ympäri maailmaa. Luennot pidetään englanniksi\, esitysmateriaalit ovat suomeksi.\nJyrki Niemi – maatalouspolitiikan tutkimusprofessori\, LuonnonvarakeskusMinne maailma on menossa – mitkä ovat suomalaisen maidon- ja naudanlihantuotannon vahvuudet ja tulevaisuuden näkymät. Agronomiliiton Vuoden vaikuttajaksikin vuonna 2019 valittu Jyrki osaa esittää monimutkaisetkin asiat selkeästi ja kiinnostavasti.\nHeikki Ojala – erityisasiantuntija\, ProAgria Keski-PohjanmaaAgronomi Heikki Ojala auttaa monivuotisen\, asiantuntijatyössään hankkimansa kokemuksen avulla maitotiloja strategiseen johtamiseen ja investointeihin liittyvissä asioissa. Hänen erityisosaamistaan ovat sukupolvenvaihdosneuvonta sekä kirjanpito ja verotus. Hänet tunnetaan informatiivisista maitomarkkinakatsauksista\, joiden laatiminen edellyttää tiivistä markkinoiden ja koko toimialan seurantaa. \nPirkko Tuominen – luomutuotannon erityisasiantuntija\, ProAgria Itä-SuomiKuulemme käytännön keinoja valkuaisomavaraisuuden kasvattamiseksi maitotilalla ja kuinka palkokasveja käytetään lypsylehmien ruokinnassa. Pirkolla on pitkä kokemus asiantuntijatyöstä ja vahvat pohjoismaiset verkostot.\nJarkko Niemi – tutkimusprofessori\, LuonnonvarakeskusKuinka paljon vasikkaripuliin\, hapanpötsin tai ketoosiin sairastuminen maksaa? Kansainvälisistä tutkimuksista sekä Pötsi- ja Vahvat Vasikat-hankkeiden pilottitiloilta kerätystä aineistosta selviävät sairauksien aiheuttamat taloudelliset vaikutukset. Jarkko on tutkinut jo vuosien ajan eläinterveyden taloudellisia näkökohtia ja kirjoittaa säännöllisesti artikkeleita mm. KMVET-lehteen.\nJuha Luhtanen – maitotilayrittäjäLuhtasten tilalla on panostettu tilakokonaisuuden johtamiseen ja rehuntuotannon suunnitteluun karjan tarpeiden mukaan. Juhalla on monipuolista kokemusta tavoitteellisesta rehuntuotannosta ja korkeatuottoisen karjan ruokinnasta.\nSanna Savunen – maitotilayrittäjäSavusten tilalla on panostettu vasikkaterveyden parantamiseen\, mistä Sanna kertoo kokemuksia. Hyvän eläinaineksen potentiaali voidaan taudeista huolimatta ylläpitää taidokkaalla hoidolla ja erinomaisilla olosuhteilla.\nPaula Rissanen – väitöskirjatutkija\, Helsingin yliopistoKuulemme\, mitä muutoksia pötsissä tapahtuu poikimisen jälkeen - tasaako tunnutusruokinta pötsin pH:n laskua poikimisen jälkeen ja mitä vaikutuksia tunnutuksella on pötsin mikrobistoon\, maidontuotantoon ja lehmän terveyteen. Tutkimustiedon lisäksi Paulalla on myös vahva käytännön osaaminen maidontuotannosta.\nSeija Perasto – terveydenhuoltoeläinlääkäri\, ProAgria Etelä-PohjanmaaSeija kertoo\, millaisia käytännön kokemuksia on saatu vasikkaterveydestä ja vasikoiden kasvusta Vahvat vasikat -hankkeen pilottitiloilta sekä kansainvälisistä seminaareista. Seija on toiminut sekä Pötsi- että Vahvat Vasikat -hankkeiden asiantuntijaeläinlääkärinä ja tehnyt maitotiloilla terveydenhuoltoa useiden vuosien ajan.\nSini Konttas – lypsykarjan ruokinnan erityisasiantuntija\, ProAgria Etelä-PohjanmaaKuulemme\, millaisia pötsiterveyteen vaikuttavia käytännön havaintoja on tehty Pötsi-hankkeen pilottitiloilla. Hanketyön lisäksi Sini tekee ruokinnan ja tuotannon ohjausta maitotila-asiakkaiden kanssa.\n \n31.10. Minimessuilla pääset tutustumaan yritysten tuotteisiin ja tietoiskuihin. Minimessuilla mukana: A-Rehu\, Lantmännen\, Feedex\, Valio\, DeLaval\, Luonnonvarakeskus\, Vilomix\, Faba\, AIV/Eastman\, MSD Animal Health\, Happowa Oy \n \n1.11. pienemmissä ryhmissä kierrettävät pisteet\n\n       Joep Driessenin vinkit onnistuneeseen umpi- ja siirtymäkauteen (kielenä englanti\, materiaalit suomeksi)\n       Säilörehun kuiva-ainemittarit ja Pötsi-hankkeessa kerätyt käyttökokemukset\n       Suomen ainoan poikimasimulaattorin avulla perehtymistä oikeaoppiseen poikima-avun antamiseen\n\n \nHinta:ennen 31.8. 2 päivää 260 e + alv (sis. ohjelman mukaiset lounaat ja kahvit).1.9. alkaen 2 päivää 290 e + alv (sis. ohjelman mukaiset lounaat ja kahvit).1 päivä 160 e + alv (sis. ohjelman mukaisen lounaan ja kahvit)\nIlmoittautumiset viimeistään 15.10.2023 (huom. majoituskiintiö umpeutuu jo 30.9.2023)\nIlmoittautumisehdot: maksuton peruutus 15.10.2023 mennessä\nMajoitusvaraukset suoraan Hotelli-Ravintola Almasta\, joka sijaitsee aivan Seinäjoen rautatieaseman vieressä: https://www.hotelalma.fi/\nTiistai-iltana 31.10. klo 19 on mahdollisuus osallistua seminaariväen yhteiselle illalliselle Hotelli-Ravintola Almassa. Illallinen on omakustanteinen\, tee varaus sähköpostitse suoraan Almasta: alma@hotelalma.fi\n·    Kaikissa varauksissa kerro kiintiötunnus PROAGRIA2023 varausta tehdessäsi. Kiintiö on voimassa 30.9.2023 asti eli ennen kuin ilmoittautumisaika päättyy!\n·   Majoitusten hinnat2 hh 134 e/yö (67 e/hlö)1 hh 112 e/huoneHintoihin sisältyy aamiainen\, pysäköinti\, iltasauna sekä wi-fi.\n \nTapahtuma on osa Pötsi- Vahvat Vasikat -hanketta.\n \n\nLaidunsäätiö
LOCATION:Frami B\, Kampusranta 9\, 60100\, Seinäjoki
URL:http://tilaisuudet.proagria.fi/event/7e5z8
END:VEVENT
END:VCALENDAR
