BEGIN:VCALENDAR
METHOD:PUBLISH
VERSION:2.0
PRODID:-//Eventilla iCal Syndication//NONSGML Liana//EN
BEGIN:VEVENT
UID:5dA8G@eventilla.com
DTSTAMP:20260424T060000Z
DTSTART:20260424T060000Z
DTEND:20260424T090000Z
SUMMARY:Maatilan ostaminen ja myyminen vieraiden välillä -webinaari 24.4.
DESCRIPTION:Suunnitteletko maatilan myyntiä tai ostoa\, mutta ostajaa ei tunnu löytyvän lähipiiristä?\n\nTervetuloa maksuttomaan webinaariin\, jossa pureudumme maatilakaupan erityispiirteisiin\, silloin kun osapuolet eivät ole entuudestaan tuttuja.\n\nWebinaari sopii sekä ostoa harkitseville tai myyntiä suunnitteleville sekä kaikille\, jotka haluavat ymmärtää tilakauppojen käytäntöjen vaiheet.
LOCATION:Teams
URL:http://tilaisuudet.proagria.fi/event/5dA8G
END:VEVENT
END:VCALENDAR
