BEGIN:VCALENDAR
METHOD:PUBLISH
VERSION:2.0
PRODID:-//Eventilla iCal Syndication//NONSGML Liana//EN
BEGIN:VEVENT
UID:55ypL@eventilla.com
DTSTAMP:20221007T090000Z
DTSTART:20221007T090000Z
DTEND:20221007T120000Z
SUMMARY:Vaikuta vesiin – hae rahoitusta kunnostuksiin –webinaari ja etätyöpaja
DESCRIPTION:Tilaisuudessa esitellään erilaisia pääosin vesistöihin kohdistuvia rahoitushakuja. Vesienhoidon avustuksia kunnostustoimenpiteisiin myönnetään erityisesti niille vesistöille\, jotka ovat ekologiselta tilaltaan huonoja\, välttäviä tai tyydyttäviä (www.vesi.fi/karttapalvelu -> teemat-> pintavesien tila). Maa- ja metsätalouden vesienhallinnan avustuksia myönnetään ratkaisuihin\, joilla vaikutetaan veden pidättämiseen\, veden laatuun ja määrään uomissa\, pelloilla ja metsissä esimerkiksi kosteikkojen\, kaksitasouomien tai luonnonmukaisten padotusten avulla. Kunnille ja järjestöille suunnattu HELMI-rahoitus soveltuu esimerkiksi lintuvesien ja kosteikkojen kunnostamiseen ja hoitoon sekä pienvesien kunnostamiseen.\nIltapäivän työpaja-osuudessa pääset kysymään omaan kunnostushankkeeseen liittyviä asioita suoraan asiantuntijoilta. Saat vinkkejä hankkeen aloittamisesta\, toimenpiteistä ja rahoituksesta.\nKlo 12 Tilaisuuden aloitus: KAIPO-verkon puheenvuoro\n12.05 Nettisivuilta apua ja ohjeita: rahatpintaan.fi \, Vesistökunnostajan karttapalvelu\, vesi.fi\, Rosanna Sjövik\, Pohjois-Karjalan ELY-keskus\n12.20 Kalataloudelliset kunnostukset: Heikki Laitala\, Lapin ELY-keskus ja Eero Hartikainen\, Metsähallitus\n12.45 HELMI-rahoitus\, Kunta- ja Järjestö-Helmi\, Niina Vähätalo\, Uudenmaan ELY-keskus\n13.10 Maa- ja metsätalouden vesienhallinnan avustus\, Essi Hillgren / Henri Vaarala\, Pohjois-Pohjanmaan ELY-keskus\n13:35 TAUKO\n13:50 Vesienhoidon avustukset Katja Vainionpää/Timo Piirainen\, Kainuun ELY-keskus\n14:15 Työpajat (vetäjinä ELY-keskuksen asiantuntijat\, + asiantuntijoina esityksen pitäjiä)\n14:45 Yhteenvetoa työpajoista (vetäjien puheenvuorot)\n15:00 Tilaisuus päättyy
LOCATION:Etätilaisuus
URL:http://tilaisuudet.proagria.fi/event/55ypL
END:VEVENT
END:VCALENDAR
