BEGIN:VCALENDAR
METHOD:PUBLISH
VERSION:2.0
PRODID:-//Eventilla iCal Syndication//NONSGML Liana//EN
BEGIN:VEVENT
UID:4AeqN@eventilla.com
DTSTAMP:20231115T073000Z
DTSTART:20231115T073000Z
DTEND:20231115T120000Z
SUMMARY:Viljelyvarmuuden parantaminen kivennäismailla muuttuvissa oloissa -seminaari 15.11.
DESCRIPTION:Kuivuus ja märkyys ovat kummatkin puhuttaneet menneenä kesänä viljelijöitä. Löytyykö muuttuviin oloihin sopeutumiskeinoja? Näistä asioista tutkijat ja neuvojat puhuvat seminaarissamme.\nTilaisuus järjestetään hybriditapahtumana. Voit osallistua paikan päälle tai etänä. \nTervetuloa!\n \nOhjelma:\n9.30 Kahvitarjoilu\n9.50 Avaus\n10.00 – 12.00 \nKivennäismaiden kyky sitoa hiiltä\, Helena Soinne\, Luke\, Hiiletin-hanke\nOrgaanisen aineksen merkitys savimailla\, Riikka Keskinen\, Luke\, Hikka-hanke\nMonimuotoinen viljely vahvistaa muutoskestävyyttä\, Marjo Keskitalo\, Luke\nViljelykierron mahdollisuudet parantaa katetuottoa ja hiilen sidontaa suomalaisilla pelloilla\, Eveliina Kiiski\, HY\nKokemuksia käytännön toimista sitoa hiiltä\, viljelijä Aki Laaksonen\, Mynämäki\n12.00 Lounas (omakustanteinen)\n13.00-14.00\nKerääjäkasvien viljely käytännössä\, erilaisia kasvivaihtoehtoja\, Jarmo Pirhonen\, ProAgria Länsi-Suomi ja Marko Sairasalo\, ProArgia Etelä-Suomi\nMonitorointi valvonnassa\, mitä on kasvustoista havaittu\, Juha Nummila\, VARELY\nCAP-järjestelmän mahdollisuudet maan kasvukunnon parantajana\, Noora Syrjä\, CAP:n toimien edistäminen -hanke\n14.00 Päätös\n \nTilaisuus on maksuton. Käytännön järjestelyjä varten pyydämme lähiosallistumisten ilmoittautumisia 8.11.2023 mennessä.\nSeminaarin järjestää Hiilipelto\, Hiiletin ja Hikka -hankkeet.
LOCATION:HAMK, Mustiala\, Mustialantie 105\, 31310\, Mustiala
URL:http://tilaisuudet.proagria.fi/viljelyvarmuus_muuttuvissa_oloissa
END:VEVENT
END:VCALENDAR
