BEGIN:VCALENDAR
METHOD:PUBLISH
VERSION:2.0
PRODID:-//Eventilla iCal Syndication//NONSGML Liana//EN
BEGIN:VEVENT
UID:2wDKp@eventilla.com
DTSTAMP:20251020T070000Z
DTSTART:20251020T070000Z
DTEND:20251020T080000Z
SUMMARY:Maisemapäivän kävely Lappeenrannan Kaukaankerhonmäellä
DESCRIPTION:Tervetuloa maanantaina 20.10.2025 klo 10-11 kansainvälisen maisemapäivän kävelylle Lappeenrannan Kaukaankerhonmäelle keskustelemaan alueen maisemasta ja historiasta.\nKäveltävän reitin pituus on n.1-1\,5 km. Reitti on esteetön\, helppokulkuinen ja sopii kaikenikäisille. Kävelylle osallistuminen on maksutonta. \nKokoontuminen klo 10 Ravintola Mutterin P-paikalla\, osoitteessa Kaukaankatu 30\, Lappeenranta.\nVoit ilmoittautua kävelylle sivun alalaidassa olevan "Ilmoittaudu" -lomakkeen kautta 19.10. mennessä. Kävelylle voi tulla myös ilman ilmoittautumista.\nMaisemapäivänkävelyn järjestää Etelä-Suomen Maa- ja kotitalousnaiset.\nTiedustelut: Aura Alaraudanjoki\nMaisemakävelyn organisoijat ovat hyödyntäneet tapahtuman valmistelussa ja toteutuksessa opetushallituksen\, ympäristöministeriön ja Suomen ympäristökeskuksen tukea.\n \n
LOCATION:Kaukaankerhonmäki\, Ravintola Mutterin P-paikka, Kaukaankatu
 30\, 53200\, Lappeenranta
URL:http://tilaisuudet.proagria.fi/maisemapaivankavely2025
END:VEVENT
END:VCALENDAR
