BEGIN:VCALENDAR
METHOD:PUBLISH
VERSION:2.0
PRODID:-//Eventilla iCal Syndication//NONSGML Liana//EN
BEGIN:VEVENT
UID:1NK2B@eventilla.com
DTSTAMP:20221130T110000Z
DTSTART:20221130T110000Z
DTEND:20221130T133000Z
SUMMARY:Luonnontuotteiden vastaanotto- ja välityspiste Keski-Suomeen -webinaari 30.11.2022
DESCRIPTION:\nLuonnontuotteiden vastaanotto- ja välityspiste Keski-Suomeen -webinaari 30.11.2022 klo 13:00 - 15:30\nKeski-Suomessa on tarvetta luonnontuotteiden vastaanotto- ja välityspisteelle. Löytyisikö sinulta sopiva tila? Tai oletko kiinnostunut toimimaan vastaanotto- ja välityspisteen pitäjänä? Tule kuulolle webinaariin!\nOhjelma\n\nMiksi Keski-Suomeen tarvitaan luonnontuotteiden vastaanotto- ja välityspiste? Hankevetäjä Anni Rintoo\, Luonnontuotteiden hankintaketjut kuntoon -hanke\, Keski-Suomen maa- ja kotitalousnaiset\nLuonnontuotteiden vastaanotto- ja välityspisteen vaatimukset. Keruutuotetarkastaja Toini Kumpulainen\nKokemuksia luonnontuotteiden keräilystä ja vastaanottopisteen toiminnasta. Toiminta- ja koulutuskoordinaattori Miia Konttinen\, Oulun 4H.\nNokkosen tie lautaselle. Liiketalousjohtaja Tuija Sinisalo\,  Kylän Kattaus Jyväskylä\nLuonnontuotteiden ostajan puheenvuoro. Sienimies ja yrittäjä Esko Holopainen\, Sienestä Oy.\n\nTilaisuus on maksuton ja kaikille avoin. Tilaisuuden järjestää Luonnontuotteiden hankintaketjut kuntoon -hanke.\nHuomaa ilmoittautuessasi\, että painat lopuksi Vahvista ilmoittautumisesi -painiketta. Sen jälkeen saat sähköpostiisi vahvistusviestin.\n \n 
LOCATION:Teams
URL:http://tilaisuudet.proagria.fi/event/1NK2B
END:VEVENT
END:VCALENDAR
