BEGIN:VCALENDAR
METHOD:PUBLISH
VERSION:2.0
PRODID:-//Eventilla iCal Syndication//NONSGML Liana//EN
BEGIN:VEVENT
UID:1EwAr@eventilla.com
DTSTAMP:20250304T110000Z
DTSTART:20250304T110000Z
DTEND:20250304T140000Z
SUMMARY:Rotukohtainen jalostussuunnittelu lammastiloilla -webinaari 4.3.
DESCRIPTION:Tervetuloa webinaariin kuuntelemaan ja keskustelemaan aiheesta rotukohtainen jalostussuunnittelu lammastiloilla!\n Webinaari koskee kaikkia rotuja.\nWebinaarissa käsitellään muun muassa rotukohtaisia tuotanto-ominaisuuksia\, teurastuloksia\, kasvukäyriä\, karitsatuotosta sekä perinnöllisiä sairauksia. Käydään läpi\, kuinka Nettikatras-ohjelmaa voidaan hyödyntää tulosten analysoinnissa ja sukutaulun lukemisessa. Aiheena myös indeksitietojen käyttöä jalostussuunnittelussa.\nPuhujina lammastuotannon erityisasiantuntija Kaie Ahlskog\, kotieläintuotannon asiantuntija Linda Kurkioja ProAgria Etelä-Suomesta sekä tutkija Marja-Liisa Sevón-Aimonen. \nIlmoittaudu viimeistään 2.3.\nTilaisuus on maksuton ja kaikille avoin.\nOhjelma:\nklo 13 Tervetuloa ja hankkeen esittely\nklo 13.15 Alkuperäisrotutuki\, jalostussuunnittelun hyödyt tilatasolla\nklo 13.45 Rotukohtaiset tuotanto-ominaisuudet: teurastulokset\, kasvukäyrät\, tuotantoikä\, kerintäajankohta\, karitsatuotos\nklo 14.30 tauko\nklo 14.40 Indeksitietojen käyttö jalostussuunnittelussa\, Marja-Liisa Sevón-Aimonen\nklo 15.15 Sukusiitos-prosentit\, perinnölliset sairaudet\, Nettikatraan hyödyntäminen: työlistat\, raportit\, tulosten analysointi\, sukutaulun lukeminen\nklo 16 keskustelua päivän teemoista\nPidätämme oikeuden ohjelmamuutoksiin.\n \nWebinaari tallennetaan ja lähetetään ilmoittatuneille webinaarin jälkeen.\n \nWebinaarin järjestää Menestyvä lammastila -hanke\nLisätiedot:\nKaie Ahlskog\nErityisasiantuntija\, lammas- ja vuohitilat\nProAgria Etelä-Suomi\nkaie.ahlskog@proagria.fi\n0400 731 811\n \n
LOCATION:Teams
URL:http://tilaisuudet.proagria.fi/rotukohtainen_jalostussuunnittelu
END:VEVENT
END:VCALENDAR
