BEGIN:VCALENDAR
METHOD:PUBLISH
VERSION:2.0
PRODID:-//Eventilla iCal Syndication//NONSGML Liana//EN
BEGIN:VEVENT
UID:00l1o@eventilla.com
DTSTAMP:20220518T140000Z
DTSTART:20220518T140000Z
DTEND:20220518T153000Z
SUMMARY:Ilmainen tukihakuinfo etänä lammastiloille
DESCRIPTION:Hei kaikki lammastilat!\nTervetuloa kuulemaan tärkeimmät kevään tukihausta.\nOhjelma:\nKlo 17.00\nLammastilojen tuet\, tukihaku – Katri Myry\, ProAgria Etelä-Suomi\nKlo 17.45 - 18.00\n Investointitukien mahdollisuudet lammastilalla - Katri Myry\, ProAgria Etelä-Suomi\nKlo. 18.00\nKeskustelua\nKlo. 18.15\nAjankohtaista Netti Katraassa – Kaie Ahlskog\, ProAgria Etelä-Suomi\n \nTilaisuus on maksuton. Ilmoittautuminen tämän sivun alalaidassa. Teams-linkki lähetetään sähköpostitse ennen tapahtumaa.\n \nTapahtuman järjestää ELINA II-hanke
LOCATION:Teams
URL:http://tilaisuudet.proagria.fi/lammastilojentuet
END:VEVENT
END:VCALENDAR
